BEGIN:VCALENDAR
VERSION:2.0
PRODID:-//Lernfabriken ...meutern - ECPv6.15.20//NONSGML v1.0//EN
CALSCALE:GREGORIAN
METHOD:PUBLISH
X-ORIGINAL-URL:https://www.lernfabriken-meutern.de
X-WR-CALDESC:Veranstaltungen für Lernfabriken ...meutern
REFRESH-INTERVAL;VALUE=DURATION:PT1H
X-Robots-Tag:noindex
X-PUBLISHED-TTL:PT1H
BEGIN:VTIMEZONE
TZID:Europe/Berlin
BEGIN:DAYLIGHT
TZOFFSETFROM:+0100
TZOFFSETTO:+0200
TZNAME:CEST
DTSTART:20240331T010000
END:DAYLIGHT
BEGIN:STANDARD
TZOFFSETFROM:+0200
TZOFFSETTO:+0100
TZNAME:CET
DTSTART:20241027T010000
END:STANDARD
BEGIN:DAYLIGHT
TZOFFSETFROM:+0100
TZOFFSETTO:+0200
TZNAME:CEST
DTSTART:20250330T010000
END:DAYLIGHT
BEGIN:STANDARD
TZOFFSETFROM:+0200
TZOFFSETTO:+0100
TZNAME:CET
DTSTART:20251026T010000
END:STANDARD
BEGIN:DAYLIGHT
TZOFFSETFROM:+0100
TZOFFSETTO:+0200
TZNAME:CEST
DTSTART:20260329T010000
END:DAYLIGHT
BEGIN:STANDARD
TZOFFSETFROM:+0200
TZOFFSETTO:+0100
TZNAME:CET
DTSTART:20261025T010000
END:STANDARD
END:VTIMEZONE
BEGIN:VEVENT
DTSTART;TZID=Europe/Berlin:20251206T120000
DTEND;TZID=Europe/Berlin:20251206T170000
DTSTAMP:20260423T124127
CREATED:20251121T093725Z
LAST-MODIFIED:20251205T202706Z
UID:16589-1765022400-1765040400@www.lernfabriken-meutern.de
SUMMARY:Nord-Bündnis
DESCRIPTION:Es ist über­all das glei­che: Pro­fes­su­ren wer­den gestri­chen\, Schul­un­ter­richt fin­det in schim­me­li­gen Con­tai­nern statt\, für Uni­ge­bäu­de besteht Betre­tungs­ge­fahr\, was für Raum­man­gel sorgt und Bil­dungs­un­ge­rech­tig­keit besiegt das BAföG auch nicht. Wissenschaftler*innen ban­gen um ihren Job. Lehrer*innen äch­zen unter Über­stun­den. Schüler*innen ler­nen im “Digi­ta­li­sie­rungs­land Deutsch­land” noch immer ohne Inter­net in der Schu­le und gehen dort mög­lichst nicht aufs Klo. Wie auch\, wenn die Toi­let­te auf dem Flur gesperrt ist\, weil sie seit Ewig­kei­ten repa­riert wer­den müsste?  \n\n\n\nDas wol­len wir nicht wei­ter hin­neh­men! All die­se Pro­ble­me las­sen sich schließ­lich auf eins zurück­zu­füh­ren: Bil­dung wird kaputt gespart! Jedes Jahr sehen wir in den Haus­hal­ten weni­ger finan­zi­el­le Mit­tel die für Bil­dung ein­ge­plant wer­den. Teil­wei­se durch direk­te Kür­zun­gen\, teil­wei­se durch gleich­blei­ben­de Haus­halts­mit­tel. So wer­den die Bud­gets fak­tisch gekürzt — immer­hin gibt es eine Inflation.  \n\n\n\nWir rufen euch auf\, gemein­sam mit uns auf die Spar­po­li­tik in der Bil­dung auf­merk­sam zu machen und gemein­sam dafür zu kämp­fen\, dass die­se Spar­po­li­tik ein Ende findet! \n\n\n\nAblauf  \n\n\n\n\nBegrü­ßung\n\n\n\nVor­stel­lung Kam­pa­gne “Schluss­ver­kauf Bildung”\n\n\n\nWork­shops\n\nÖko­no­mi­sie­rung der Bil­dung (Brea­kout Ses­si­ons in Kleingruppen)\n\n\n\nDemo­kra­ti­sie­rung der Bildung\n\n\n\n\n\nPra­xis­ver­ständ­nis\n\n\n\nBünd­nis­kon­zept\n\n\n\nAkti­ons­pla­nung\n\n\n\nTer­mi­ne und Arbeitsabläufe\n\n\n\n\nWir tagen im Con­ti­nen­tal Hoch­haus der Leib­nitz Uni Han­no­ver im 14. Stock. \n\n\n\nKönigs­wor­t­her Platz 1\, 30167 Hannover \n\n\n\nAnfahrtNächs­te Stadt­bahn­hal­te­stel­le ist U4/U5 Königs­wor­t­her Platz (rechts­sei­ti­ger Aus­gang) — vom Hbf läuft man zur Stadtmitte/Kröpcke und nimmt da 4/5 gen Garb­sen oder Stö­cken. Das Gebäu­de ist das größ­te auf die­sem Cam­pus. Im Anhang habe ich euch ein Bild von dem Gebäu­de bereit­ge­stellt. Es geht dort­hin\, wo der höchs­te Turm ist. \n\n\n\n\n  \n\n\n\n* = obligatorisch  \nName *:\n\n \nRol­le im Bil­dungs­sys­tem (z.B. Schüler*in\, Azu­bi\, Lehrer*in\, Gewerkschaftler*in\, Erwerbslose*r\, Student*in (wel­che Hochschule)) *:\n\n \nOrt und (falls ihr möch­tet) Struk­tur\, z.B. AStA Uni Olden­burg\, Fal­ken Han­no­ver oder FAU Bremen*:\n\n \nE‑Mail-Adres­se *:\n\n \nHan­dy­num­mer *:\n\n \nAnmer­kun­gen \n \n3+4= \n \nThis form requi­res JavaScript!
URL:https://www.lernfabriken-meutern.de/termin/nord-buendnis-4
ATTACH;FMTTYPE=image/jpeg:https://www.lernfabriken-meutern.de/wp-content/uploads/2025/11/Nord-Buendnis_Share-Pic_hell-tuerkis-scaled.jpg
END:VEVENT
BEGIN:VEVENT
DTSTART;TZID=Europe/Berlin:20251207T120000
DTEND;TZID=Europe/Berlin:20251207T170000
DTSTAMP:20260423T124127
CREATED:20251126T180717Z
LAST-MODIFIED:20251206T183038Z
UID:16624-1765108800-1765126800@www.lernfabriken-meutern.de
SUMMARY:Fränkische Vernetzung in der Bildungspolitik
DESCRIPTION:Das Tref­fen steht allen Inter­es­sier­ten offen. Im Rah­men die­ses Tref­fens wird der Auf­bau loka­ler Pro­test-Bünd­nis­se vor­be­rei­tet. Wei­ter­hin wer­den hier berei­tes The­men für den Auf­bau des Bay­ern-Bündns­ses gesammelt.  \n\n\n\nOrt \n\n\n\nBal­tha­s­ar­gäß­chen 1\, 96049 Bamberg \n\n\n\nhttps://maps.app.goo.gl/fNsMpmG8BWCo6unr8?g_st=ipcAuf­ruf: Es ist über­all das glei­che: Pro­fes­su­ren wer­den gestri­chen\, Schul­un­ter­richt fin­det in schim­me­li­gen Con­tai­nern statt\, für Uni­ge­bäu­de besteht Betre­tungs­ge­fahr\, was für Raum­man­gel sorgt und Bil­dungs­un­ge­rech­tig­keit besiegt das BAföG auch nicht. Wissenschaftler*innen ban­gen um ihren Job. Lehrer*innen äch­zen unter Über­stun­den. Schüler*innen ler­nen im “Digi­ta­li­sie­rungs­land Deutsch­land” noch immer ohne Inter­net in der Schu­le und gehen dort mög­lichst nicht aufs Klo. Wie auch\, wenn die Toi­let­te auf dem Flur gesperrt ist\, weil sie seit Ewig­kei­ten repa­riert wer­den müsste?  \n\n\n\nDas wol­len wir nicht wei­ter hin­neh­men! All die­se Pro­ble­me las­sen sich schließ­lich auf eins zurück­zu­füh­ren: Bil­dung wird kaputt gespart! Jedes Jahr sehen wir in den Haus­hal­ten weni­ger finan­zi­el­le Mit­tel die für Bil­dung ein­ge­plant wer­den. Teil­wei­se durch direk­te Kür­zun­gen\, teil­wei­se durch gleich­blei­ben­de Haus­halts­mit­tel. So wer­den die Bud­gets fak­tisch gekürzt — immer­hin gibt es eine Inflation.  \n\n\n\nWir rufen euch auf\, gemein­sam mit uns auf die Spar­po­li­tik in der Bil­dung auf­merk­sam zu machen und gemein­sam dafür zu kämp­fen\, dass die­se Spar­po­li­tik ein Ende fin­det!Wer ist ein­ge­la­den?Alle bil­dungs­po­li­tisch Interessierten!  \n\n\n\nDer Zusam­men­schluss rich­tet sich ins­be­son­de­re an alle\, die im Bil­dungs­sys­tem ver­haf­tet sind: Schüler*innen\, Pädagog*innen\, Sozialarbeiter*innen\, Verwaltungsmitarbeiter*innen\, Wissenschaftler*innen\, Student*innen\, Aus­zu­bil­den­de. Denn wir alle sind betrof­fen von Spar­maß­nah­men und Ökonomisierung.  \n\n\n\n\n  \n\n\n\n* = obligatorisch  \nName *:\n\n \nRol­le im Bil­dungs­sys­tem (z.B. Schüler*in\, Azu­bi\, Lehrer*in\, Gewerkschaftler*in\, Erwerbslose*r\, Student*in (wel­che Hochschule)) *:\n\n \nOrt und (falls ihr möch­tet) Struk­tur\, z.B. StuV Würz­burg\, Fal­ken Nürn­berg\, DGB Jugend Mün­chen oder oder GEW Regensburg*:\n\n \nE‑Mail-Adres­se *:\n\n \nHan­dy­num­mer *:\n\n \nAnmer­kun­gen \n \n4+7= \n \nThis form requi­res JavaScript!
URL:https://www.lernfabriken-meutern.de/termin/fraenkische-vernetzung-in-der-bildungspolitik
ATTACH;FMTTYPE=image/jpeg:https://www.lernfabriken-meutern.de/wp-content/uploads/2025/11/Franken_Buendnis.jpg
END:VEVENT
BEGIN:VEVENT
DTSTART;TZID=Europe/Berlin:20251214T160000
DTEND;TZID=Europe/Berlin:20251214T200000
DTSTAMP:20260423T124127
CREATED:20251127T181321Z
LAST-MODIFIED:20251214T135114Z
UID:16633-1765728000-1765742400@www.lernfabriken-meutern.de
SUMMARY:Lokale Basisgruppe Leipzig
DESCRIPTION:Wir spü­ren die Kür­zun­gen im Bil­dungs­we­sen nicht erst seit ges­tern. Schu­len ver­fal­len\, jun­ge Men­schen wer­den sys­te­ma­tisch über­se­hen und kla­gen mas­si­ve psy­chi­sche Lei­den. Wissenschaftler*innen arbei­ten unter pre­kä­ren Bedin­gun­gen und Stu­die­ren­de oft­mal nur von indi­vi­du­el­ler För­de­rung träu­men. Gleich­zei­tig wird an der poli­ti­schen und der Erwach­se­nen­bil­dung gekürzt. Es zeigt sich deut­lich: Bil­dung ist aus den Augen von Politiker*innen und dem Kapi­tal kaum etwas Wert\, da sie kei­ne unmit­tel­ba­ren Pro­fi­te erzeugt. Um dage­gen vor­zu­ge­hen\, bau­en wir die loka­le Akti­ons­grup­pe in Leip­zig auf. Das ers­te Tref­fen fin­det im Café Mein Lie­bes Froll­ein statt. Kommt ger­ne vor­bei. Das Tref­fen steht allen Inter­es­sier­ten offen. Adres­se: Fich­te­str. 15 — 04275
URL:https://www.lernfabriken-meutern.de/termin/lokale-basisgruppe-leipzig
ATTACH;FMTTYPE=image/jpeg:https://www.lernfabriken-meutern.de/wp-content/uploads/2025/11/Lokale-Protestgruppe-scaled.jpg
END:VEVENT
END:VCALENDAR