BEGIN:VCALENDAR
VERSION:2.0
PRODID:-//Lernfabriken ...meutern - ECPv6.15.20//NONSGML v1.0//EN
CALSCALE:GREGORIAN
METHOD:PUBLISH
X-WR-CALNAME:Lernfabriken ...meutern
X-ORIGINAL-URL:https://www.lernfabriken-meutern.de
X-WR-CALDESC:Veranstaltungen für Lernfabriken ...meutern
REFRESH-INTERVAL;VALUE=DURATION:PT1H
X-Robots-Tag:noindex
X-PUBLISHED-TTL:PT1H
BEGIN:VTIMEZONE
TZID:Europe/Berlin
BEGIN:DAYLIGHT
TZOFFSETFROM:+0100
TZOFFSETTO:+0200
TZNAME:CEST
DTSTART:20250330T010000
END:DAYLIGHT
BEGIN:STANDARD
TZOFFSETFROM:+0200
TZOFFSETTO:+0100
TZNAME:CET
DTSTART:20251026T010000
END:STANDARD
BEGIN:DAYLIGHT
TZOFFSETFROM:+0100
TZOFFSETTO:+0200
TZNAME:CEST
DTSTART:20260329T010000
END:DAYLIGHT
BEGIN:STANDARD
TZOFFSETFROM:+0200
TZOFFSETTO:+0100
TZNAME:CET
DTSTART:20261025T010000
END:STANDARD
BEGIN:DAYLIGHT
TZOFFSETFROM:+0100
TZOFFSETTO:+0200
TZNAME:CEST
DTSTART:20270328T010000
END:DAYLIGHT
BEGIN:STANDARD
TZOFFSETFROM:+0200
TZOFFSETTO:+0100
TZNAME:CET
DTSTART:20271031T010000
END:STANDARD
END:VTIMEZONE
BEGIN:VEVENT
DTSTART;TZID=Europe/Berlin:20260117T120000
DTEND;TZID=Europe/Berlin:20260117T170000
DTSTAMP:20260421T132936
CREATED:20251127T185609Z
LAST-MODIFIED:20260117T113216Z
UID:16636-1768651200-1768669200@www.lernfabriken-meutern.de
SUMMARY:Ost-Bündnis
DESCRIPTION:Schluss mit Spar­po­li­tik in der Bildung \n\n\n\nEs ist über­all das glei­che: Pro­fes­su­ren wer­den gestri­chen\, Schul­un­ter­richt fin­det in schim­me­li­gen Con­tai­nern statt\, für Uni­ge­bäu­de besteht Betre­tungs­ge­fahr\, was für Raum­man­gel sorgt und Bil­dungs­un­ge­rech­tig­keit besiegt das BAföG auch nicht. Wissenschaftler*innen ban­gen um ihren Job. Lehrer*innen äch­zen unter Überstunden.  \n\n\n\nDas wol­len wir nicht wei­ter hin­neh­men! All die­se Pro­ble­me las­sen sich schließ­lich auf eins zurück­zu­füh­ren: Bil­dung wird kaputt gespart! Jedes Jahr sehen wir in den Haus­hal­ten weni­ger finan­zi­el­le Mit­tel die für Bil­dung ein­ge­plant wer­den. Teil­wei­se durch direk­te Kür­zun­gen\, teil­wei­se durch gleich­blei­ben­de Haus­halts­mit­tel. So wer­den die Bud­gets fak­tisch gekürzt — immer­hin gibt es eine Inflation.  \n\n\n\nWir rufen euch auf\, gemein­sam mit uns auf die Spar­po­li­tik in der Bil­dung auf­merk­sam zu machen und gemein­sam dafür zu kämp­fen\, dass die­se Spar­po­li­tik ein Ende findet! \n\n\n\nIm Janu­ar möch­ten wir uns in einem Auf­takt­tref­fen zusam­men­setz­ten\, um das Regio­nal­bünd­nis Ost wie­der­zu­be­le­ben\, d.h. es gibt eine kur­ze Ein­füh­rung und ein Ken­nen­ler­nen\, wir set­zen uns in einem Work­shop mit der aktu­el­len Spar­po­li­tik aus­ein­an­der und erar­bei­ten eige­ne Aktio­nen wie Demos und Kam­pa­gnen gegen die Kür­zun­gen. Mit einem lan­des­über­grei­fen­den Bünd­nis haben wir die Chan­ce mehr Auf­merk­sam­keit für das The­ma zu erwirken. \n\n\n\nOrtUni Leip­zig Bil­dungs­wis­sen­schaft­li­ches Insti­tut\, Raum 026 im Haus 5 (Marsch­ner­str 31 | 04109 Leip­zig) statt. Weg­be­schrei­bung: Die Erzie­hungs­wis­sen­schaft­li­che Fakul­tät besitzt mit der Hal­te­stel­le “Sport­fo­rum Süd” eine direk­te Bahn­an­bin­dung. Nutzt dafür eine der fol­gen­den Bahn­an­bin­dun­gen: 3 (Knaut­klee­berg) 7 (Böhlitz-Ehren­berg) 15 (Mil­titz) Von der Hal­te­stel­le erreicht ihr den Cam­pus nur durch das Gebäu­de (sh. Abbil­dung)\, da die Sei­ten­ein­gän­ge am Sams­tag ver­schlos­sen sind. Folgt dann dem letz­ten Pfeil\, um Haus 5 zu errei­chen. Der Raum 026 befin­det sich im Erd­ge­schoss. Geht durch bis zur Glas­tür und biegt dann rechts in den Durch­gang ein. Begebt euch hin­ter den Toi­let­ten in den Flur nach links. Der Raum befin­det sich direkt vor der Glastür. \n\n\n\n \n\n\n\nAblauf 12:00 Ankunft und Ken­nen­ler­nen (30 min) \n\n\n\n 12:30 Ein­füh­rung + Nach­fra­gen (30 min) \n\n\n\n 13:00 Aus­tausch (Hin­ter­grün­de\, Moti­va­tio­nen\, Erwar­tun­ge\, Zie­le) in 4er Grup­pen (35 min) \n\n\n\n 13:35 Erwar­tun­gen an das Bünd­nis (15 min) \n\n\n\n 13:50 Work­shops the­ma­tisch ähn­lich wie letz­tes Mal (1h — 1.5h) \n\n\n\n 15:25 “Akti­on” \n\n\n\n 16:00 Abschluss­run­de / Aufräumen \n\n\n\nab 16:30 Ver­net­zung im locke­ren Rah­men bei Getränken \n\n\n\n \n\n\n\n\n  \n\n\n\n* = obligatorisch  \nName *:\n\n \nRol­le im Bil­dungs­sys­tem (z.B. Schüler*in\, Azu­bi\, Lehrer*in\, Gewerkschaftler*in\, Erwerbslose*r\, Student*in (wel­che Hochschule)) *:\n\n \nOrt und (falls ihr möch­tet) Struk­tur\, z.B. Stu­Ra HMT Leip­zig\, FAU Dres­den\, FFF Chemitz\, LSR Sach­sen oder GEW Thüringen*:\n\n \nE‑Mail-Adres­se *:\n\n \nHan­dy­num­mer *:\n\n \nAnmer­kun­gen \n \n3+6= \n \nThis form requi­res JavaScript!\n\n\n\n\n\n\n\n \n\n\n\nTages­ord­nung  \n\n\n\n\nBegrü­ßung  \n\n\n\nAus­tausch und Berichte \n\n\n\nPraxisverständnis/ Büd­nis­kon­zept\n\n\n\nKam­pa­gnen­pla­nung\n\n\n\nTer­mi­ne und Arbeitsabläufe\n\n\n\nSons­ti­ges
URL:https://www.lernfabriken-meutern.de/termin/ost-buendnis
ATTACH;FMTTYPE=image/jpeg:https://www.lernfabriken-meutern.de/wp-content/uploads/2025/11/RF-Sachsen-Leipzig-17.01.2026-scaled.jpg
END:VEVENT
BEGIN:VEVENT
DTSTART;TZID=Europe/Berlin:20260124T120000
DTEND;TZID=Europe/Berlin:20260124T170000
DTSTAMP:20260421T132936
CREATED:20251121T124410Z
LAST-MODIFIED:20251126T161252Z
UID:16596-1769256000-1769274000@www.lernfabriken-meutern.de
SUMMARY:Bayern Bündnis
DESCRIPTION:Es ist über­all das glei­che: Pro­fes­su­ren wer­den gestri­chen\, Schul­un­ter­richt fin­det in schim­me­li­gen Con­tai­nern statt\, für Uni­ge­bäu­de besteht Betre­tungs­ge­fahr\, was für Raum­man­gel sorgt und Bil­dungs­un­ge­rech­tig­keit besiegt das BAföG auch nicht. Wissenschaftler*innen ban­gen um ihren Job. Lehrer*innen äch­zen unter Über­stun­den. Schüler*innen ler­nen im “Digi­ta­li­sie­rungs­land Deutsch­land” noch immer ohne Inter­net in der Schu­le und gehen dort mög­lichst nicht aufs Klo. Wie auch\, wenn die Toi­let­te auf dem Flur gesperrt ist\, weil sie seit Ewig­kei­ten repa­riert wer­den müsste?  \n\n\n\nDas wol­len wir nicht wei­ter hin­neh­men! All die­se Pro­ble­me las­sen sich schließ­lich auf eins zurück­zu­füh­ren: Bil­dung wird kaputt gespart! Jedes Jahr sehen wir in den Haus­hal­ten weni­ger finan­zi­el­le Mit­tel die für Bil­dung ein­ge­plant wer­den. Teil­wei­se durch direk­te Kür­zun­gen\, teil­wei­se durch gleich­blei­ben­de Haus­halts­mit­tel. So wer­den die Bud­gets fak­tisch gekürzt — immer­hin gibt es eine Inflation.  \n\n\n\nWir rufen euch auf\, gemein­sam mit uns auf die Spar­po­li­tik in der Bil­dung auf­merk­sam zu machen und gemein­sam dafür zu kämp­fen\, dass die­se Spar­po­li­tik ein Ende findet! \n\n\n\nAblauf \n\n\n\n \n\n\n\n\nBegrü­ßung\n\n\n\nVor­stel­lung Kam­pa­gne “Schluss­ver­kauf Bildung”\n\n\n\nWork­shops\n\nÖko­no­mi­sie­rung der Bil­dung (Brea­kout Ses­si­ons in Kleingruppen)\n\n\n\nDemo­kra­ti­sie­rung der Bildung\n\n\n\n\n\nPra­xis­ver­ständ­nis\n\n\n\nBünd­nis­kon­zept\n\n\n\nAkti­ons­pla­nung\n\n\n\nTer­mi­ne und Arbeitsabläufe\n\n\n\n\n\n  \n\n\n\n* = obligatorisch  \nName *:\n\n \nRol­le im Bil­dungs­sys­tem (z.B. Schüler*in\, Azu­bi\, Lehrer*in\, Gewerkschaftler*in\, Erwerbslose*r\, Student*in (wel­che Hochschule)) *:\n\n \nOrt und (falls ihr möch­tet) Struk­tur\, z.B. StuV Würz­burg\, Fal­ken Nürn­berg\, DGB Jugend Mün­chen oder oder GEW Regensburg*:\n\n \nE‑Mail-Adres­se *:\n\n \nHan­dy­num­mer *:\n\n \nAnmer­kun­gen \n \n4+7= \n \nThis form requi­res JavaScript!
URL:https://www.lernfabriken-meutern.de/termin/bayern-buendnis-2
ATTACH;FMTTYPE=image/jpeg:https://www.lernfabriken-meutern.de/wp-content/uploads/2025/11/Bayern-Buendnis_24.02.2026_pink-dynamisch-scaled.jpg
END:VEVENT
BEGIN:VEVENT
DTSTART;TZID=Europe/Berlin:20260131T120000
DTEND;TZID=Europe/Berlin:20260131T170000
DTSTAMP:20260421T132936
CREATED:20251126T164056Z
LAST-MODIFIED:20251126T165233Z
UID:16615-1769860800-1769878800@www.lernfabriken-meutern.de
SUMMARY:NRW-Bündnis
DESCRIPTION:Wei­te­re Infor­ma­tio­nen zum Bünd­nis­tref­fen fol­gen…Das Bünd­nis Lern­fa­bri­ken …meu­tern! warnt bereits seit 2019 vor anste­hen­den Kür­zun­gen im Bil­dungs­we­sen und pro­gnos­ti­zier­te bil­dungs­po­li­ti­sche Kämp­fe in den fol­gen­den Jah­ren. Denn für das Jahr 2020 soll­te die Schul­den­brem­se für die Län­der grei­fen. Damit war abseh­bar\, dass für den Bil­dungs­sek­tor mas­si­ve Kür­zun­gen anste­hen und uns als Sach­zwän­ge ver­kauft wer­den. Seit­her sind wir dar­an Wider­stand zu orga­ni­sie­ren. Doch es kam schlim­mer als wir dach­ten. Eine Pan­de­mie\, Krieg\, Ener­gie­kri­se\, Preis­stei­ge­run­gen\, Ver­ar­mung und Mili­ta­ri­sie­rung. Das hat auch uns getrof­fen. Der eine gro­ße Pro­test blieb bis­her aus. Dafür wird das sozia­le Elend immer deut­li­cher. Der Pro­test der sich Ende der 2010er bereits an den KiTas for­mier­te ist bereits wäh­rend der Pan­de­mie auf die Schu­len über­ge­sprun­gen. Nun schla­gen sich dras­ti­sche Kür­zun­gen an den Hoch­schu­len durch. Da Bil­dung und Wis­sen­schaft Län­der­sa­che ist kom­men die Pro­tes­te in Wel­len und sind dezen­tra­li­siert. Unser Pro­jekt ist es die Erfah­run­gen\, das Wis­sen und die Pra­xis der ver­schie­de­nen Grup­pen zusam­men­zu­füh­ren. Wir sind davon über­zeugt\, dass wir gemein­sam etwas ändern können!  \n\n\n\nDas Bünd­nis-Tref­fen fin­det beim AStA der TU Dort­mund statt. Eine Weg­be­schrei­bung bekommt ihr per Mail zu geschickt\, wenn ihr euch anmel­det. 🙂 Falls das nicht klappt\, könnt ihr uns natür­lich ein Mail schi­cken\, die fin­det ihr Unter der Kate­go­rie “Kon­takt” auf die­ser Sei­te. Oder ihr fragt euch vor Ort durch. Der AStA ist die Stu­die­ren­den­ver­tre­tung und an sich gut zu finden.  \n\n\n\n\n  \n\n\n\n* = obligatorisch  \nName *:\n\n \nRol­le im Bil­dungs­sys­tem (z.B. Schüler*in\, Azu­bi\, Lehrer*in\, Gewerkschaftler*in\, Erwerbslose*r\, Student*in (wel­che Hochschule)) *:\n\n \nOrt und (falls ihr möch­tet) Struk­tur\, z.B. AStA Uni Bonn\, BSV Bochum oder Fal­ken Düsseldorf*:\n\n \nE‑Mail-Adres­se *:\n\n \nHan­dy­num­mer *:\n\n \nAnmer­kun­gen \n \n3+4= \n \nThis form requi­res JavaScript!
URL:https://www.lernfabriken-meutern.de/termin/nrw-buendnis-6
ATTACH;FMTTYPE=image/jpeg:https://www.lernfabriken-meutern.de/wp-content/uploads/2025/11/NRW-Buendnis-Dortmund-31.01.2026-scaled.jpg
END:VEVENT
END:VCALENDAR